BEGIN:VCALENDAR
VERSION:2.0
PRODID:-//wp-events-plugin.com//7.2.3.1//EN
TZID:Europe/Berlin
X-WR-TIMEZONE:Europe/Berlin
BEGIN:VEVENT
UID:13-2499@spd-mainz-oberstadt.de
DTSTART;TZID=Europe/Berlin:20240601T100000
DTEND;TZID=Europe/Berlin:20240601T130000
DTSTAMP:20240428T204115Z
URL:https://spd-mainz-oberstadt.de/termine/events/infostand-zur-kommunalwa
 hl-5/
SUMMARY:Infostand zur Kommunalwahl
DESCRIPTION:
ATTACH;FMTTYPE=image/jpeg:https://spd-mainz-oberstadt.de/wp-content/upload
 s/sites/13/OberstadtProgramm-2024-bis-2029-1-e1712610969813.png
CATEGORIES:SPD Mainz-Oberstadt
LOCATION:vor Barbarossabäckerei\, An der Goldgrube 52\, Mainz\, 55131
GEO:49.987746;8.27882
X-APPLE-STRUCTURED-LOCATION;VALUE=URI;X-ADDRESS=An der Goldgrube 52\, Mainz
 \, 55131\, Deutschland;X-APPLE-RADIUS=100;X-TITLE=vor Barbarossabäckerei:
 geo:49.987746,8.27882
END:VEVENT
BEGIN:VTIMEZONE
TZID:Europe/Berlin
X-LIC-LOCATION:Europe/Berlin
BEGIN:DAYLIGHT
DTSTART:20240331T030000
TZOFFSETFROM:+0100
TZOFFSETTO:+0200
TZNAME:CEST
END:DAYLIGHT
END:VTIMEZONE
END:VCALENDAR